Workbook

Sheet Transactions Data
A1: TRANSACTIONS DATA — Coreytics Demo (Source Data)
A2: One row per order. Cohort Month and Month Offset are helper columns used by the RFM and Cohort Retention sheets.
A4: Order ID | B4: Customer ID | C4: Customer Name | D4: Country | E4: Order Date | F4: Order Value | G4: Cohort Month | H4: Month Offset
A5: 5107 | B5: CUST-026 | C5: Ella Lewis | D5: Canada | E5: 45292 | F5: 29.99 | G5: =DATE(YEAR(_xlfn.MINIFS($E$5:$E$281,$B$5:$B$281,B5)),MONTH(_xlfn.MINIFS($E$5:$E$281,$B$5:$B$281,B5)),1) -> 45292 | H5: =(YEAR(E5)-YEAR(G5))*12+(MONTH(E5)-MONTH(G5)) -> 0
A6: 5238 | B6: CUST-063 | C6: Daniel Baker | D6: Australia | E6: 45293 | F6: 60.44 | G6: =DATE(YEAR(_xlfn.MINIFS($E$5:$E$281,$B$5:$B$281,B6)),MONTH(_xlfn.MINIFS($E$5:$E$281,$B$5:$B$281,B6)),1) -> 45292 | H6: =(YEAR(E6)-YEAR(G6))*12+(MONTH(E6)-MONTH(G6)) -> 0
A7: 5143 | B7: CUST-039 | C7: Claire Young | D7: United Kingdom | E7: 45293 | F7: 110.13 | G7: =DATE(YEAR(_xlfn.MINIFS($E$5:$E$281,$B$5:$B$281,B7)),MONTH(_xlfn.MINIFS($E$5:$E$281,$B$5:$B$281,B7)),1) -> 45292 | H7: =(YEAR(E7)-YEAR(G7))*12+(MONTH(E7)-MONTH(G7)) -> 0
A8: 5014 | B8: CUST-005 | C8: Isabella Clark | D8: Germany | E8: 45294 | F8: 179.33 | G8: =DATE(YEAR(_xlfn.MINIFS($E$5:$E$281,$B$5:$B$281,B8)),MONTH(_xlfn.MINIFS($E$5:$E$281,$B$5:$B$281,B8)),1) -> 45292 | H8: =(YEAR(E8)-YEAR(G8))*12+(MONTH(E8)-MONTH(G8)) -> 0
A9: 5162 | B9: CUST-043 | C9: Brooklyn Young | D9: United States | E9: 45296 | F9: 100.45 | G9: =DATE(YEAR(_xlfn.MINIFS($E$5:$E$281,$B$5:$B$281,B9)),MONTH(_xlfn.MINIFS($E$5:$E$281,$B$5:$B$281,B9)),1) -> 45292 | H9: =(YEAR(E9)-YEAR(G9))*12+(MONTH(E9)-MONTH(G9)) -> 0
A10: 5019 | B10: CUST-006 | C10: Mason Johnson | D10: United Kingdom | E10: 45297 | F10: 68.69 | G10: =DATE(YEAR(_xlfn.MINIFS($E$5:$E$281,$B$5:$B$281,B10)),MONTH(_xlfn.MINIFS($E$5:$E$281,$B$5:$B$281,B10)),1) -> 45292 | H10: =(YEAR(E10)-YEAR(G10))*12+(MONTH(E10)-MONTH(G10)) -> 0
A11: 5101 | B11: CUST-025 | C11: Chloe Clark | D11: United Kingdom | E11: 45303 | F11: 40.8 | G11: =DATE(YEAR(_xlfn.MINIFS($E$5:$E$281,$B$5:$B$281,B11)),MONTH(_xlfn.MINIFS($E$5:$E$281,$B$5:$B$281,B11)),1) -> 45292 | H11: =(YEAR(E11)-YEAR(G11))*12+(MONTH(E11)-MONTH(G11)) -> 0
A12: 5003 | B12: CUST-001 | C12: Aria Anderson | D12: Australia | E12: 45308 | F12: 97.78 | G12: =DATE(YEAR(_xlfn.MINIFS($E$5:$E$281,$B$5:$B$281,B12)),MONTH(_xlfn.MINIFS($E$5:$E$281,$B$5:$B$281,B12)),1) -> 45292 | H12: =(YEAR(E12)-YEAR(G12))*12+(MONTH(E12)-MONTH(G12)) -> 0
A13: 5002 | B13: CUST-001 | C13: Aria Anderson | D13: Australia | E13: 45314 | F13: 103.46 | G13: =DATE(YEAR(_xlfn.MINIFS($E$5:$E$281,$B$5:$B$281,B13)),MONTH(_xlfn.MINIFS($E$5:$E$281,$B$5:$B$281,B13)),1) -> 45292 | H13: =(YEAR(E13)-YEAR(G13))*12+(MONTH(E13)-MONTH(G13)) -> 0
A14: 5237 | B14: CUST-063 | C14: Daniel Baker | D14: Australia | E14: 45315 | F14: 15.37 | G14: =DATE(YEAR(_xlfn.MINIFS($E$5:$E$281,$B$5:$B$281,B14)),MONTH(_xlfn.MINIFS($E$5:$E$281,$B$5:$B$281,B14)),1) -> 45292 | H14: =(YEAR(E14)-YEAR(G14))*12+(MONTH(E14)-MONTH(G14)) -> 0
A15: 5001 | B15: CUST-001 | C15: Aria Anderson | D15: Australia | E15: 45318 | F15: 60.86 | G15: =DATE(YEAR(_xlfn.MINIFS($E$5:$E$281,$B$5:$B$281,B15)),MONTH(_xlfn.MINIFS($E$5:$E$281,$B$5:$B$281,B15)),1) -> 45292 | H15: =(YEAR(E15)-YEAR(G15))*12+(MONTH(E15)-MONTH(G15)) -> 0
A16: 5010 | B16: CUST-002 | C16: Wyatt Taylor | D16: Canada | E16: 45318 | F16: 101.56 | G16: =DATE(YEAR(_xlfn.MINIFS($E$5:$E$281,$B$5:$B$281,B16)),MONTH(_xlfn.MINIFS($E$5:$E$281,$B$5:$B$281,B16)),1) -> 45292 | H16: =(YEAR(E16)-YEAR(G16))*12+(MONTH(E16)-MONTH(G16)) -> 0
... A281: 5196 | B281: CUST-052 | C281: Oscar Anderson | D281: Germany | E281: 45657 | F281: 179.97 | G281: =DATE(YEAR(_xlfn.MINIFS($E$5:$E$281,$B$5:$B$281,B281)),MONTH(_xlfn.MINIFS($E$5:$E$281,$B$5:$B$281,B281)),1) -> 45352 | H281: =(YEAR(E281)-YEAR(G281))*12+(MONTH(E281)-MONTH(G281)) -> 9

Sheet RFM Analysis
A1: RFM ANALYSIS — Customer Value Segmentation
A2: Recency, Frequency & Monetary scoring (1=lowest, 5=highest) ranks every customer against the whole base, then maps them to a segment. Standard technique used by growth/retention teams to decide who to win back, upsell, or leave alone.
A3: Reference date (Recency measured from): | C3: =DATE(2025,1,1) -> 45658
A5: Customer ID | B5: Customer Name | C5: Country | D5: Cohort Month | E5: Last Order Date | F5: Recency (days) | G5: Frequency (orders) | H5: Monetary ($) | I5: R Score | J5: F Score | K5: M Score | L5: Segment
A6: CUST-001 | B6: =IFERROR(INDEX('Transactions Data'!$C$5:$C$281,MATCH(A6,'Transactions Data'!$B$5:$B$281,0)),"") -> Aria Anderson | C6: =IFERROR(INDEX('Transactions Data'!$D$5:$D$281,MATCH(A6,'Transactions Data'!$B$5:$B$281,0)),"") -> Australia | D6: =DATE(YEAR(_xlfn.MINIFS('Transactions Data'!$E$5:$E$281,'Transactions Data'!$B$5:$B$281,A6)),MONTH(_xlfn.MINIFS('Transactions Data'!$E$5:$E$281,'Transactions Data'!$B$5:$B$281,A6)),1) -> 45292 | E6: =_xlfn.MAXIFS('Transactions Data'!$E$5:$E$281,'Transactions Data'!$B$5:$B$281,A6) -> 45441 | F6: =$C$3-E6 -> 217 | G6: =COUNTIFS('Transactions Data'!$B$5:$B$281,A6) -> 9 | H6: =SUMIFS('Transactions Data'!$F$5:$F$281,'Transactions Data'!$B$5:$B$281,A6) -> 873.37 | I6: =IF(F6<=PERCENTILE($F$6:$F$75,0.2),5,IF(F6<=PERCENTILE($F$6:$F$75,0.4),4,IF(F6<=PERCENTILE($F$6:$F$75,0.6),3,IF(F6<=PERCENTILE($F$6:$F$75,0.8),2,1)))) -> 2 | J6: =IF(G6>=PERCENTILE($G$6:$G$75,0.8),5,IF(G6>=PERCENTILE($G$6:$G$75,0.6),4,IF(G6>=PERCENTILE($G$6:$G$75,0.4),3,IF(G6>=PERCENTILE($G$6:$G$75,0.2),2,1)))) -> 5 | K6: =IF(H6>=PERCENTILE($H$6:$H$75,0.8),5,IF(H6>=PERCENTILE($H$6:$H$75,0.6),4,IF(H6>=PERCENTILE($H$6:$H$75,0.4),3,IF(H6>=PERCENTILE($H$6:$H$75,0.2),2,1)))) -> 4 | L6: =IF(AND(I6>=4,J6>=4),"Champions",IF(AND(I6>=3,J6>=4),"Loyal Customers",IF(AND(I6>=4,J6<=3),"Potential Loyalist",IF(AND(I6<=2,J6>=3),"At Risk",IF(AND(I6<=2,J6<=2),"Lost","Need Attention"))))) -> At Risk
A7: CUST-002 | B7: =IFERROR(INDEX('Transactions Data'!$C$5:$C$281,MATCH(A7,'Transactions Data'!$B$5:$B$281,0)),"") -> Wyatt Taylor | C7: =IFERROR(INDEX('Transactions Data'!$D$5:$D$281,MATCH(A7,'Transactions Data'!$B$5:$B$281,0)),"") -> Canada | D7: =DATE(YEAR(_xlfn.MINIFS('Transactions Data'!$E$5:$E$281,'Transactions Data'!$B$5:$B$281,A7)),MONTH(_xlfn.MINIFS('Transactions Data'!$E$5:$E$281,'Transactions Data'!$B$5:$B$281,A7)),1) -> 45292 | E7: =_xlfn.MAXIFS('Transactions Data'!$E$5:$E$281,'Transactions Data'!$B$5:$B$281,A7) -> 45321 | F7: =$C$3-E7 -> 337 | G7: =COUNTIFS('Transactions Data'!$B$5:$B$281,A7) -> 2 | H7: =SUMIFS('Transactions Data'!$F$5:$F$281,'Transactions Data'!$B$5:$B$281,A7) -> 255.13 | I7: =IF(F7<=PERCENTILE($F$6:$F$75,0.2),5,IF(F7<=PERCENTILE($F$6:$F$75,0.4),4,IF(F7<=PERCENTILE($F$6:$F$75,0.6),3,IF(F7<=PERCENTILE($F$6:$F$75,0.8),2,1)))) -> 1 | J7: =IF(G7>=PERCENTILE($G$6:$G$75,0.8),5,IF(G7>=PERCENTILE($G$6:$G$75,0.6),4,IF(G7>=PERCENTILE($G$6:$G$75,0.4),3,IF(G7>=PERCENTILE($G$6:$G$75,0.2),2,1)))) -> 3 | K7: =IF(H7>=PERCENTILE($H$6:$H$75,0.8),5,IF(H7>=PERCENTILE($H$6:$H$75,0.6),4,IF(H7>=PERCENTILE($H$6:$H$75,0.4),3,IF(H7>=PERCENTILE($H$6:$H$75,0.2),2,1)))) -> 3 | L7: =IF(AND(I7>=4,J7>=4),"Champions",IF(AND(I7>=3,J7>=4),"Loyal Customers",IF(AND(I7>=4,J7<=3),"Potential Loyalist",IF(AND(I7<=2,J7>=3),"At Risk",IF(AND(I7<=2,J7<=2),"Lost","Need Attention"))))) -> At Risk
A8: CUST-003 | B8: =IFERROR(INDEX('Transactions Data'!$C$5:$C$281,MATCH(A8,'Transactions Data'!$B$5:$B$281,0)),"") -> Zoe Johnson | C8: =IFERROR(INDEX('Transactions Data'!$D$5:$D$281,MATCH(A8,'Transactions Data'!$B$5:$B$281,0)),"") -> United States | D8: =DATE(YEAR(_xlfn.MINIFS('Transactions Data'!$E$5:$E$281,'Transactions Data'!$B$5:$B$281,A8)),MONTH(_xlfn.MINIFS('Transactions Data'!$E$5:$E$281,'Transactions Data'!$B$5:$B$281,A8)),1) -> 45474 | E8: =_xlfn.MAXIFS('Transactions Data'!$E$5:$E$281,'Transactions Data'!$B$5:$B$281,A8) -> 45490 | F8: =$C$3-E8 -> 168 | G8: =COUNTIFS('Transactions Data'!$B$5:$B$281,A8) -> 1 | H8: =SUMIFS('Transactions Data'!$F$5:$F$281,'Transactions Data'!$B$5:$B$281,A8) -> 131.97 | I8: =IF(F8<=PERCENTILE($F$6:$F$75,0.2),5,IF(F8<=PERCENTILE($F$6:$F$75,0.4),4,IF(F8<=PERCENTILE($F$6:$F$75,0.6),3,IF(F8<=PERCENTILE($F$6:$F$75,0.8),2,1)))) -> 4 | J8: =IF(G8>=PERCENTILE($G$6:$G$75,0.8),5,IF(G8>=PERCENTILE($G$6:$G$75,0.6),4,IF(G8>=PERCENTILE($G$6:$G$75,0.4),3,IF(G8>=PERCENTILE($G$6:$G$75,0.2),2,1)))) -> 2 | K8: =IF(H8>=PERCENTILE($H$6:$H$75,0.8),5,IF(H8>=PERCENTILE($H$6:$H$75,0.6),4,IF(H8>=PERCENTILE($H$6:$H$75,0.4),3,IF(H8>=PERCENTILE($H$6:$H$75,0.2),2,1)))) -> 2 | L8: =IF(AND(I8>=4,J8>=4),"Champions",IF(AND(I8>=3,J8>=4),"Loyal Customers",IF(AND(I8>=4,J8<=3),"Potential Loyalist",IF(AND(I8<=2,J8>=3),"At Risk",IF(AND(I8<=2,J8<=2),"Lost","Need Attention"))))) -> Potential Loyalist
A9: CUST-004 | B9: =IFERROR(INDEX('Transactions Data'!$C$5:$C$281,MATCH(A9,'Transactions Data'!$B$5:$B$281,0)),"") -> Noah Brown | C9: =IFERROR(INDEX('Transactions Data'!$D$5:$D$281,MATCH(A9,'Transactions Data'!$B$5:$B$281,0)),"") -> Germany | D9: =DATE(YEAR(_xlfn.MINIFS('Transactions Data'!$E$5:$E$281,'Transactions Data'!$B$5:$B$281,A9)),MONTH(_xlfn.MINIFS('Transactions Data'!$E$5:$E$281,'Transactions Data'!$B$5:$B$281,A9)),1) -> 45474 | E9: =_xlfn.MAXIFS('Transactions Data'!$E$5:$E$281,'Transactions Data'!$B$5:$B$281,A9) -> 45496 | F9: =$C$3-E9 -> 162 | G9: =COUNTIFS('Transactions Data'!$B$5:$B$281,A9) -> 1 | H9: =SUMIFS('Transactions Data'!$F$5:$F$281,'Transactions Data'!$B$5:$B$281,A9) -> 52.59 | I9: =IF(F9<=PERCENTILE($F$6:$F$75,0.2),5,IF(F9<=PERCENTILE($F$6:$F$75,0.4),4,IF(F9<=PERCENTILE($F$6:$F$75,0.6),3,IF(F9<=PERCENTILE($F$6:$F$75,0.8),2,1)))) -> 4 | J9: =IF(G9>=PERCENTILE($G$6:$G$75,0.8),5,IF(G9>=PERCENTILE($G$6:$G$75,0.6),4,IF(G9>=PERCENTILE($G$6:$G$75,0.4),3,IF(G9>=PERCENTILE($G$6:$G$75,0.2),2,1)))) -> 2 | K9: =IF(H9>=PERCENTILE($H$6:$H$75,0.8),5,IF(H9>=PERCENTILE($H$6:$H$75,0.6),4,IF(H9>=PERCENTILE($H$6:$H$75,0.4),3,IF(H9>=PERCENTILE($H$6:$H$75,0.2),2,1)))) -> 1 | L9: =IF(AND(I9>=4,J9>=4),"Champions",IF(AND(I9>=3,J9>=4),"Loyal Customers",IF(AND(I9>=4,J9<=3),"Potential Loyalist",IF(AND(I9<=2,J9>=3),"At Risk",IF(AND(I9<=2,J9<=2),"Lost","Need Attention"))))) -> Potential Loyalist
A10: CUST-005 | B10: =IFERROR(INDEX('Transactions Data'!$C$5:$C$281,MATCH(A10,'Transactions Data'!$B$5:$B$281,0)),"") -> Isabella Clark | C10: =IFERROR(INDEX('Transactions Data'!$D$5:$D$281,MATCH(A10,'Transactions Data'!$B$5:$B$281,0)),"") -> Germany | D10: =DATE(YEAR(_xlfn.MINIFS('Transactions Data'!$E$5:$E$281,'Transactions Data'!$B$5:$B$281,A10)),MONTH(_xlfn.MINIFS('Transactions Data'!$E$5:$E$281,'Transactions Data'!$B$5:$B$281,A10)),1) -> 45292 | E10: =_xlfn.MAXIFS('Transactions Data'!$E$5:$E$281,'Transactions Data'!$B$5:$B$281,A10) -> 45381 | F10: =$C$3-E10 -> 277 | G10: =COUNTIFS('Transactions Data'!$B$5:$B$281,A10) -> 4 | H10: =SUMIFS('Transactions Data'!$F$5:$F$281,'Transactions Data'!$B$5:$B$281,A10) -> 559.22 | I10: =IF(F10<=PERCENTILE($F$6:$F$75,0.2),5,IF(F10<=PERCENTILE($F$6:$F$75,0.4),4,IF(F10<=PERCENTILE($F$6:$F$75,0.6),3,IF(F10<=PERCENTILE($F$6:$F$75,0.8),2,1)))) -> 1 | J10: =IF(G10>=PERCENTILE($G$6:$G$75,0.8),5,IF(G10>=PERCENTILE($G$6:$G$75,0.6),4,IF(G10>=PERCENTILE($G$6:$G$75,0.4),3,IF(G10>=PERCENTILE($G$6:$G$75,0.2),2,1)))) -> 4 | K10: =IF(H10>=PERCENTILE($H$6:$H$75,0.8),5,IF(H10>=PERCENTILE($H$6:$H$75,0.6),4,IF(H10>=PERCENTILE($H$6:$H$75,0.4),3,IF(H10>=PERCENTILE($H$6:$H$75,0.2),2,1)))) -> 4 | L10: =IF(AND(I10>=4,J10>=4),"Champions",IF(AND(I10>=3,J10>=4),"Loyal Customers",IF(AND(I10>=4,J10<=3),"Potential Loyalist",IF(AND(I10<=2,J10>=3),"At Risk",IF(AND(I10<=2,J10<=2),"Lost","Need Attention"))))) -> At Risk
A11: CUST-006 | B11: =IFERROR(INDEX('Transactions Data'!$C$5:$C$281,MATCH(A11,'Transactions Data'!$B$5:$B$281,0)),"") -> Mason Johnson | C11: =IFERROR(INDEX('Transactions Data'!$D$5:$D$281,MATCH(A11,'Transactions Data'!$B$5:$B$281,0)),"") -> United Kingdom | D11: =DATE(YEAR(_xlfn.MINIFS('Transactions Data'!$E$5:$E$281,'Transactions Data'!$B$5:$B$281,A11)),MONTH(_xlfn.MINIFS('Transactions Data'!$E$5:$E$281,'Transactions Data'!$B$5:$B$281,A11)),1) -> 45292 | E11: =_xlfn.MAXIFS('Transactions Data'!$E$5:$E$281,'Transactions Data'!$B$5:$B$281,A11) -> 45442 | F11: =$C$3-E11 -> 216 | G11: =COUNTIFS('Transactions Data'!$B$5:$B$281,A11) -> 8 | H11: =SUMIFS('Transactions Data'!$F$5:$F$281,'Transactions Data'!$B$5:$B$281,A11) -> 811.87 | I11: =IF(F11<=PERCENTILE($F$6:$F$75,0.2),5,IF(F11<=PERCENTILE($F$6:$F$75,0.4),4,IF(F11<=PERCENTILE($F$6:$F$75,0.6),3,IF(F11<=PERCENTILE($F$6:$F$75,0.8),2,1)))) -> 3 | J11: =IF(G11>=PERCENTILE($G$6:$G$75,0.8),5,IF(G11>=PERCENTILE($G$6:$G$75,0.6),4,IF(G11>=PERCENTILE($G$6:$G$75,0.4),3,IF(G11>=PERCENTILE($G$6:$G$75,0.2),2,1)))) -> 5 | K11: =IF(H11>=PERCENTILE($H$6:$H$75,0.8),5,IF(H11>=PERCENTILE($H$6:$H$75,0.6),4,IF(H11>=PERCENTILE($H$6:$H$75,0.4),3,IF(H11>=PERCENTILE($H$6:$H$75,0.2),2,1)))) -> 4 | L11: =IF(AND(I11>=4,J11>=4),"Champions",IF(AND(I11>=3,J11>=4),"Loyal Customers",IF(AND(I11>=4,J11<=3),"Potential Loyalist",IF(AND(I11<=2,J11>=3),"At Risk",IF(AND(I11<=2,J11<=2),"Lost","Need Attention"))))) -> Loyal Customers
A12: CUST-007 | B12: =IFERROR(INDEX('Transactions Data'!$C$5:$C$281,MATCH(A12,'Transactions Data'!$B$5:$B$281,0)),"") -> Grace Walker | C12: =IFERROR(INDEX('Transactions Data'!$D$5:$D$281,MATCH(A12,'Transactions Data'!$B$5:$B$281,0)),"") -> Australia | D12: =DATE(YEAR(_xlfn.MINIFS('Transactions Data'!$E$5:$E$281,'Transactions Data'!$B$5:$B$281,A12)),MONTH(_xlfn.MINIFS('Transactions Data'!$E$5:$E$281,'Transactions Data'!$B$5:$B$281,A12)),1) -> 45352 | E12: =_xlfn.MAXIFS('Transactions Data'!$E$5:$E$281,'Transactions Data'!$B$5:$B$281,A12) -> 45390 | F12: =$C$3-E12 -> 268 | G12: =COUNTIFS('Transactions Data'!$B$5:$B$281,A12) -> 3 | H12: =SUMIFS('Transactions Data'!$F$5:$F$281,'Transactions Data'!$B$5:$B$281,A12) -> 485.26 | I12: =IF(F12<=PERCENTILE($F$6:$F$75,0.2),5,IF(F12<=PERCENTILE($F$6:$F$75,0.4),4,IF(F12<=PERCENTILE($F$6:$F$75,0.6),3,IF(F12<=PERCENTILE($F$6:$F$75,0.8),2,1)))) -> 2 | J12: =IF(G12>=PERCENTILE($G$6:$G$75,0.8),5,IF(G12>=PERCENTILE($G$6:$G$75,0.6),4,IF(G12>=PERCENTILE($G$6:$G$75,0.4),3,IF(G12>=PERCENTILE($G$6:$G$75,0.2),2,1)))) -> 4 | K12: =IF(H12>=PERCENTILE($H$6:$H$75,0.8),5,IF(H12>=PERCENTILE($H$6:$H$75,0.6),4,IF(H12>=PERCENTILE($H$6:$H$75,0.4),3,IF(H12>=PERCENTILE($H$6:$H$75,0.2),2,1)))) -> 4 | L12: =IF(AND(I12>=4,J12>=4),"Champions",IF(AND(I12>=3,J12>=4),"Loyal Customers",IF(AND(I12>=4,J12<=3),"Potential Loyalist",IF(AND(I12<=2,J12>=3),"At Risk",IF(AND(I12<=2,J12<=2),"Lost","Need Attention"))))) -> At Risk
A13: CUST-008 | B13: =IFERROR(INDEX('Transactions Data'!$C$5:$C$281,MATCH(A13,'Transactions Data'!$B$5:$B$281,0)),"") -> Luna Adams | C13: =IFERROR(INDEX('Transactions Data'!$D$5:$D$281,MATCH(A13,'Transactions Data'!$B$5:$B$281,0)),"") -> United Kingdom | D13: =DATE(YEAR(_xlfn.MINIFS('Transactions Data'!$E$5:$E$281,'Transactions Data'!$B$5:$B$281,A13)),MONTH(_xlfn.MINIFS('Transactions Data'!$E$5:$E$281,'Transactions Data'!$B$5:$B$281,A13)),1) -> 45323 | E13: =_xlfn.MAXIFS('Transactions Data'!$E$5:$E$281,'Transactions Data'!$B$5:$B$281,A13) -> 45335 | F13: =$C$3-E13 -> 323 | G13: =COUNTIFS('Transactions Data'!$B$5:$B$281,A13) -> 1 | H13: =SUMIFS('Transactions Data'!$F$5:$F$281,'Transactions Data'!$B$5:$B$281,A13) -> 217.83 | I13: =IF(F13<=PERCENTILE($F$6:$F$75,0.2),5,IF(F13<=PERCENTILE($F$6:$F$75,0.4),4,IF(F13<=PERCENTILE($F$6:$F$75,0.6),3,IF(F13<=PERCENTILE($F$6:$F$75,0.8),2,1)))) -> 1 | J13: =IF(G13>=PERCENTILE($G$6:$G$75,0.8),5,IF(G13>=PERCENTILE($G$6:$G$75,0.6),4,IF(G13>=PERCENTILE($G$6:$G$75,0.4),3,IF(G13>=PERCENTILE($G$6:$G$75,0.2),2,1)))) -> 2 | K13: =IF(H13>=PERCENTILE($H$6:$H$75,0.8),5,IF(H13>=PERCENTILE($H$6:$H$75,0.6),4,IF(H13>=PERCENTILE($H$6:$H$75,0.4),3,IF(H13>=PERCENTILE($H$6:$H$75,0.2),2,1)))) -> 3 | L13: =IF(AND(I13>=4,J13>=4),"Champions",IF(AND(I13>=3,J13>=4),"Loyal Customers",IF(AND(I13>=4,J13<=3),"Potential Loyalist",IF(AND(I13<=2,J13>=3),"At Risk",IF(AND(I13<=2,J13<=2),"Lost","Need Attention"))))) -> Lost
A14: CUST-009 | B14: =IFERROR(INDEX('Transactions Data'!$C$5:$C$281,MATCH(A14,'Transactions Data'!$B$5:$B$281,0)),"") -> Jack Young | C14: =IFERROR(INDEX('Transactions Data'!$D$5:$D$281,MATCH(A14,'Transactions Data'!$B$5:$B$281,0)),"") -> United States | D14: =DATE(YEAR(_xlfn.MINIFS('Transactions Data'!$E$5:$E$281,'Transactions Data'!$B$5:$B$281,A14)),MONTH(_xlfn.MINIFS('Transactions Data'!$E$5:$E$281,'Transactions Data'!$B$5:$B$281,A14)),1) -> 45323 | E14: =_xlfn.MAXIFS('Transactions Data'!$E$5:$E$281,'Transactions Data'!$B$5:$B$281,A14) -> 45392 | F14: =$C$3-E14 -> 266 | G14: =COUNTIFS('Transactions Data'!$B$5:$B$281,A14) -> 3 | H14: =SUMIFS('Transactions Data'!$F$5:$F$281,'Transactions Data'!$B$5:$B$281,A14) -> 456 | I14: =IF(F14<=PERCENTILE($F$6:$F$75,0.2),5,IF(F14<=PERCENTILE($F$6:$F$75,0.4),4,IF(F14<=PERCENTILE($F$6:$F$75,0.6),3,IF(F14<=PERCENTILE($F$6:$F$75,0.8),2,1)))) -> 2 | J14: =IF(G14>=PERCENTILE($G$6:$G$75,0.8),5,IF(G14>=PERCENTILE($G$6:$G$75,0.6),4,IF(G14>=PERCENTILE($G$6:$G$75,0.4),3,IF(G14>=PERCENTILE($G$6:$G$75,0.2),2,1)))) -> 4 | K14: =IF(H14>=PERCENTILE($H$6:$H$75,0.8),5,IF(H14>=PERCENTILE($H$6:$H$75,0.6),4,IF(H14>=PERCENTILE($H$6:$H$75,0.4),3,IF(H14>=PERCENTILE($H$6:$H$75,0.2),2,1)))) -> 4 | L14: =IF(AND(I14>=4,J14>=4),"Champions",IF(AND(I14>=3,J14>=4),"Loyal Customers",IF(AND(I14>=4,J14<=3),"Potential Loyalist",IF(AND(I14<=2,J14>=3),"At Risk",IF(AND(I14<=2,J14<=2),"Lost","Need Attention"))))) -> At Risk
A15: CUST-010 | B15: =IFERROR(INDEX('Transactions Data'!$C$5:$C$281,MATCH(A15,'Transactions Data'!$B$5:$B$281,0)),"") -> Ryan Green | C15: =IFERROR(INDEX('Transactions Data'!$D$5:$D$281,MATCH(A15,'Transactions Data'!$B$5:$B$281,0)),"") -> Germany | D15: =DATE(YEAR(_xlfn.MINIFS('Transactions Data'!$E$5:$E$281,'Transactions Data'!$B$5:$B$281,A15)),MONTH(_xlfn.MINIFS('Transactions Data'!$E$5:$E$281,'Transactions Data'!$B$5:$B$281,A15)),1) -> 45474 | E15: =_xlfn.MAXIFS('Transactions Data'!$E$5:$E$281,'Transactions Data'!$B$5:$B$281,A15) -> 45482 | F15: =$C$3-E15 -> 176 | G15: =COUNTIFS('Transactions Data'!$B$5:$B$281,A15) -> 1 | H15: =SUMIFS('Transactions Data'!$F$5:$F$281,'Transactions Data'!$B$5:$B$281,A15) -> 106.39 | I15: =IF(F15<=PERCENTILE($F$6:$F$75,0.2),5,IF(F15<=PERCENTILE($F$6:$F$75,0.4),4,IF(F15<=PERCENTILE($F$6:$F$75,0.6),3,IF(F15<=PERCENTILE($F$6:$F$75,0.8),2,1)))) -> 3 | J15: =IF(G15>=PERCENTILE($G$6:$G$75,0.8),5,IF(G15>=PERCENTILE($G$6:$G$75,0.6),4,IF(G15>=PERCENTILE($G$6:$G$75,0.4),3,IF(G15>=PERCENTILE($G$6:$G$75,0.2),2,1)))) -> 2 | K15: =IF(H15>=PERCENTILE($H$6:$H$75,0.8),5,IF(H15>=PERCENTILE($H$6:$H$75,0.6),4,IF(H15>=PERCENTILE($H$6:$H$75,0.4),3,IF(H15>=PERCENTILE($H$6:$H$75,0.2),2,1)))) -> 1 | L15: =IF(AND(I15>=4,J15>=4),"Champions",IF(AND(I15>=3,J15>=4),"Loyal Customers",IF(AND(I15>=4,J15<=3),"Potential Loyalist",IF(AND(I15<=2,J15>=3),"At Risk",IF(AND(I15<=2,J15<=2),"Lost","Need Attention"))))) -> Need Attention
A16: CUST-011 | B16: =IFERROR(INDEX('Transactions Data'!$C$5:$C$281,MATCH(A16,'Transactions Data'!$B$5:$B$281,0)),"") -> Aurora Nelson | C16: =IFERROR(INDEX('Transactions Data'!$D$5:$D$281,MATCH(A16,'Transactions Data'!$B$5:$B$281,0)),"") -> Australia | D16: =DATE(YEAR(_xlfn.MINIFS('Transactions Data'!$E$5:$E$281,'Transactions Data'!$B$5:$B$281,A16)),MONTH(_xlfn.MINIFS('Transactions Data'!$E$5:$E$281,'Transactions Data'!$B$5:$B$281,A16)),1) -> 45444 | E16: =_xlfn.MAXIFS('Transactions Data'!$E$5:$E$281,'Transactions Data'!$B$5:$B$281,A16) -> 45642 | F16: =$C$3-E16 -> 16 | G16: =COUNTIFS('Transactions Data'!$B$5:$B$281,A16) -> 11 | H16: =SUMIFS('Transactions Data'!$F$5:$F$281,'Transactions Data'!$B$5:$B$281,A16) -> 1406.95 | I16: =IF(F16<=PERCENTILE($F$6:$F$75,0.2),5,IF(F16<=PERCENTILE($F$6:$F$75,0.4),4,IF(F16<=PERCENTILE($F$6:$F$75,0.6),3,IF(F16<=PERCENTILE($F$6:$F$75,0.8),2,1)))) -> 5 | J16: =IF(G16>=PERCENTILE($G$6:$G$75,0.8),5,IF(G16>=PERCENTILE($G$6:$G$75,0.6),4,IF(G16>=PERCENTILE($G$6:$G$75,0.4),3,IF(G16>=PERCENTILE($G$6:$G$75,0.2),2,1)))) -> 5 | K16: =IF(H16>=PERCENTILE($H$6:$H$75,0.8),5,IF(H16>=PERCENTILE($H$6:$H$75,0.6),4,IF(H16>=PERCENTILE($H$6:$H$75,0.4),3,IF(H16>=PERCENTILE($H$6:$H$75,0.2),2,1)))) -> 5 | L16: =IF(AND(I16>=4,J16>=4),"Champions",IF(AND(I16>=3,J16>=4),"Loyal Customers",IF(AND(I16>=4,J16<=3),"Potential Loyalist",IF(AND(I16<=2,J16>=3),"At Risk",IF(AND(I16<=2,J16<=2),"Lost","Need Attention"))))) -> Champions
A17: CUST-012 | B17: =IFERROR(INDEX('Transactions Data'!$C$5:$C$281,MATCH(A17,'Transactions Data'!$B$5:$B$281,0)),"") -> Ella Clark | C17: =IFERROR(INDEX('Transactions Data'!$D$5:$D$281,MATCH(A17,'Transactions Data'!$B$5:$B$281,0)),"") -> United States | D17: =DATE(YEAR(_xlfn.MINIFS('Transactions Data'!$E$5:$E$281,'Transactions Data'!$B$5:$B$281,A17)),MONTH(_xlfn.MINIFS('Transactions Data'!$E$5:$E$281,'Transactions Data'!$B$5:$B$281,A17)),1) -> 45413 | E17: =_xlfn.MAXIFS('Transactions Data'!$E$5:$E$281,'Transactions Data'!$B$5:$B$281,A17) -> 45414 | F17: =$C$3-E17 -> 244 | G17: =COUNTIFS('Transactions Data'!$B$5:$B$281,A17) -> 1 | H17: =SUMIFS('Transactions Data'!$F$5:$F$281,'Transactions Data'!$B$5:$B$281,A17) -> 184.1 | I17: =IF(F17<=PERCENTILE($F$6:$F$75,0.2),5,IF(F17<=PERCENTILE($F$6:$F$75,0.4),4,IF(F17<=PERCENTILE($F$6:$F$75,0.6),3,IF(F17<=PERCENTILE($F$6:$F$75,0.8),2,1)))) -> 2 | J17: =IF(G17>=PERCENTILE($G$6:$G$75,0.8),5,IF(G17>=PERCENTILE($G$6:$G$75,0.6),4,IF(G17>=PERCENTILE($G$6:$G$75,0.4),3,IF(G17>=PERCENTILE($G$6:$G$75,0.2),2,1)))) -> 2 | K17: =IF(H17>=PERCENTILE($H$6:$H$75,0.8),5,IF(H17>=PERCENTILE($H$6:$H$75,0.6),4,IF(H17>=PERCENTILE($H$6:$H$75,0.4),3,IF(H17>=PERCENTILE($H$6:$H$75,0.2),2,1)))) -> 2 | L17: =IF(AND(I17>=4,J17>=4),"Champions",IF(AND(I17>=3,J17>=4),"Loyal Customers",IF(AND(I17>=4,J17<=3),"Potential Loyalist",IF(AND(I17<=2,J17>=3),"At Risk",IF(AND(I17<=2,J17<=2),"Lost","Need Attention"))))) -> Lost
... A75: CUST-070 | B75: =IFERROR(INDEX('Transactions Data'!$C$5:$C$281,MATCH(A75,'Transactions Data'!$B$5:$B$281,0)),"") -> Grace Scott | C75: =IFERROR(INDEX('Transactions Data'!$D$5:$D$281,MATCH(A75,'Transactions Data'!$B$5:$B$281,0)),"") -> United Kingdom | D75: =DATE(YEAR(_xlfn.MINIFS('Transactions Data'!$E$5:$E$281,'Transactions Data'!$B$5:$B$281,A75)),MONTH(_xlfn.MINIFS('Transactions Data'!$E$5:$E$281,'Transactions Data'!$B$5:$B$281,A75)),1) -> 45323 | E75: =_xlfn.MAXIFS('Transactions Data'!$E$5:$E$281,'Transactions Data'!$B$5:$B$281,A75) -> 45353 | F75: =$C$3-E75 -> 305 | G75: =COUNTIFS('Transactions Data'!$B$5:$B$281,A75) -> 2 | H75: =SUMIFS('Transactions Data'!$F$5:$F$281,'Transactions Data'!$B$5:$B$281,A75) -> 129.07 | I75: =IF(F75<=PERCENTILE($F$6:$F$75,0.2),5,IF(F75<=PERCENTILE($F$6:$F$75,0.4),4,IF(F75<=PERCENTILE($F$6:$F$75,0.6),3,IF(F75<=PERCENTILE($F$6:$F$75,0.8),2,1)))) -> 1 | J75: =IF(G75>=PERCENTILE($G$6:$G$75,0.8),5,IF(G75>=PERCENTILE($G$6:$G$75,0.6),4,IF(G75>=PERCENTILE($G$6:$G$75,0.4),3,IF(G75>=PERCENTILE($G$6:$G$75,0.2),2,1)))) -> 3 | K75: =IF(H75>=PERCENTILE($H$6:$H$75,0.8),5,IF(H75>=PERCENTILE($H$6:$H$75,0.6),4,IF(H75>=PERCENTILE($H$6:$H$75,0.4),3,IF(H75>=PERCENTILE($H$6:$H$75,0.2),2,1)))) -> 2 | L75: =IF(AND(I75>=4,J75>=4),"Champions",IF(AND(I75>=3,J75>=4),"Loyal Customers",IF(AND(I75>=4,J75<=3),"Potential Loyalist",IF(AND(I75<=2,J75>=3),"At Risk",IF(AND(I75<=2,J75<=2),"Lost","Need Attention"))))) -> At Risk

Sheet Cohort Retention
A1: COHORT RETENTION — % of Each Signup Cohort Still Ordering
A2: Each row is a group of customers by their first-purchase month. Each column is months since that first purchase. Shows how much of a cohort keeps buying over time — the core metric subscription/repeat-purchase businesses track.
A4: Cohort | B4: Customers | C4: Month 0 | D4: Month 1 | E4: Month 2 | F4: Month 3 | G4: Month 4 | H4: Month 5 | I4: Month 6
A5: =DATE(2024,1,1) -> 45292 | B5: =COUNTIFS('RFM Analysis'!$D$6:$D$75,A5) -> 9 | C5: =IF($B5=0,"",IFERROR(SUMPRODUCT(('Transactions Data'!$G$5:$G$281=$A5)*('Transactions Data'!$H$5:$H$281=0)/COUNTIFS('Transactions Data'!$B$5:$B$281,'Transactions Data'!$B$5:$B$281,'Transactions Data'!$G$5:$G$281,'Transactions Data'!$G$5:$G$281,'Transactions Data'!$H$5:$H$281,'Transactions Data'!$H$5:$H$281)),0)/$B5) -> 1 | D5: =IF($B5=0,"",IFERROR(SUMPRODUCT(('Transactions Data'!$G$5:$G$281=$A5)*('Transactions Data'!$H$5:$H$281=1)/COUNTIFS('Transactions Data'!$B$5:$B$281,'Transactions Data'!$B$5:$B$281,'Transactions Data'!$G$5:$G$281,'Transactions Data'!$G$5:$G$281,'Transactions Data'!$H$5:$H$281,'Transactions Data'!$H$5:$H$281)),0)/$B5) -> 0.44444444 | E5: =IF($B5=0,"",IFERROR(SUMPRODUCT(('Transactions Data'!$G$5:$G$281=$A5)*('Transactions Data'!$H$5:$H$281=2)/COUNTIFS('Transactions Data'!$B$5:$B$281,'Transactions Data'!$B$5:$B$281,'Transactions Data'!$G$5:$G$281,'Transactions Data'!$G$5:$G$281,'Transactions Data'!$H$5:$H$281,'Transactions Data'!$H$5:$H$281)),0)/$B5) -> 0.44444444 | F5: =IF($B5=0,"",IFERROR(SUMPRODUCT(('Transactions Data'!$G$5:$G$281=$A5)*('Transactions Data'!$H$5:$H$281=3)/COUNTIFS('Transactions Data'!$B$5:$B$281,'Transactions Data'!$B$5:$B$281,'Transactions Data'!$G$5:$G$281,'Transactions Data'!$G$5:$G$281,'Transactions Data'!$H$5:$H$281,'Transactions Data'!$H$5:$H$281)),0)/$B5) -> 0.33333333 | G5: =IF($B5=0,"",IFERROR(SUMPRODUCT(('Transactions Data'!$G$5:$G$281=$A5)*('Transactions Data'!$H$5:$H$281=4)/COUNTIFS('Transactions Data'!$B$5:$B$281,'Transactions Data'!$B$5:$B$281,'Transactions Data'!$G$5:$G$281,'Transactions Data'!$G$5:$G$281,'Transactions Data'!$H$5:$H$281,'Transactions Data'!$H$5:$H$281)),0)/$B5) -> 0.22222222 | H5: =IF($B5=0,"",IFERROR(SUMPRODUCT(('Transactions Data'!$G$5:$G$281=$A5)*('Transactions Data'!$H$5:$H$281=5)/COUNTIFS('Transactions Data'!$B$5:$B$281,'Transactions Data'!$B$5:$B$281,'Transactions Data'!$G$5:$G$281,'Transactions Data'!$G$5:$G$281,'Transactions Data'!$H$5:$H$281,'Transactions Data'!$H$5:$H$281)),0)/$B5) -> 0 | I5: =IF($B5=0,"",IFERROR(SUMPRODUCT(('Transactions Data'!$G$5:$G$281=$A5)*('Transactions Data'!$H$5:$H$281=6)/COUNTIFS('Transactions Data'!$B$5:$B$281,'Transactions Data'!$B$5:$B$281,'Transactions Data'!$G$5:$G$281,'Transactions Data'!$G$5:$G$281,'Transactions Data'!$H$5:$H$281,'Transactions Data'!$H$5:$H$281)),0)/$B5) -> 0
A6: =DATE(2024,2,1) -> 45323 | B6: =COUNTIFS('RFM Analysis'!$D$6:$D$75,A6) -> 10 | C6: =IF($B6=0,"",IFERROR(SUMPRODUCT(('Transactions Data'!$G$5:$G$281=$A6)*('Transactions Data'!$H$5:$H$281=0)/COUNTIFS('Transactions Data'!$B$5:$B$281,'Transactions Data'!$B$5:$B$281,'Transactions Data'!$G$5:$G$281,'Transactions Data'!$G$5:$G$281,'Transactions Data'!$H$5:$H$281,'Transactions Data'!$H$5:$H$281)),0)/$B6) -> 1 | D6: =IF($B6=0,"",IFERROR(SUMPRODUCT(('Transactions Data'!$G$5:$G$281=$A6)*('Transactions Data'!$H$5:$H$281=1)/COUNTIFS('Transactions Data'!$B$5:$B$281,'Transactions Data'!$B$5:$B$281,'Transactions Data'!$G$5:$G$281,'Transactions Data'!$G$5:$G$281,'Transactions Data'!$H$5:$H$281,'Transactions Data'!$H$5:$H$281)),0)/$B6) -> 0.7 | E6: =IF($B6=0,"",IFERROR(SUMPRODUCT(('Transactions Data'!$G$5:$G$281=$A6)*('Transactions Data'!$H$5:$H$281=2)/COUNTIFS('Transactions Data'!$B$5:$B$281,'Transactions Data'!$B$5:$B$281,'Transactions Data'!$G$5:$G$281,'Transactions Data'!$G$5:$G$281,'Transactions Data'!$H$5:$H$281,'Transactions Data'!$H$5:$H$281)),0)/$B6) -> 0.4 | F6: =IF($B6=0,"",IFERROR(SUMPRODUCT(('Transactions Data'!$G$5:$G$281=$A6)*('Transactions Data'!$H$5:$H$281=3)/COUNTIFS('Transactions Data'!$B$5:$B$281,'Transactions Data'!$B$5:$B$281,'Transactions Data'!$G$5:$G$281,'Transactions Data'!$G$5:$G$281,'Transactions Data'!$H$5:$H$281,'Transactions Data'!$H$5:$H$281)),0)/$B6) -> 0.2 | G6: =IF($B6=0,"",IFERROR(SUMPRODUCT(('Transactions Data'!$G$5:$G$281=$A6)*('Transactions Data'!$H$5:$H$281=4)/COUNTIFS('Transactions Data'!$B$5:$B$281,'Transactions Data'!$B$5:$B$281,'Transactions Data'!$G$5:$G$281,'Transactions Data'!$G$5:$G$281,'Transactions Data'!$H$5:$H$281,'Transactions Data'!$H$5:$H$281)),0)/$B6) -> 0.2 | H6: =IF($B6=0,"",IFERROR(SUMPRODUCT(('Transactions Data'!$G$5:$G$281=$A6)*('Transactions Data'!$H$5:$H$281=5)/COUNTIFS('Transactions Data'!$B$5:$B$281,'Transactions Data'!$B$5:$B$281,'Transactions Data'!$G$5:$G$281,'Transactions Data'!$G$5:$G$281,'Transactions Data'!$H$5:$H$281,'Transactions Data'!$H$5:$H$281)),0)/$B6) -> 0.2 | I6: =IF($B6=0,"",IFERROR(SUMPRODUCT(('Transactions Data'!$G$5:$G$281=$A6)*('Transactions Data'!$H$5:$H$281=6)/COUNTIFS('Transactions Data'!$B$5:$B$281,'Transactions Data'!$B$5:$B$281,'Transactions Data'!$G$5:$G$281,'Transactions Data'!$G$5:$G$281,'Transactions Data'!$H$5:$H$281,'Transactions Data'!$H$5:$H$281)),0)/$B6) -> 0.2
A7: =DATE(2024,3,1) -> 45352 | B7: =COUNTIFS('RFM Analysis'!$D$6:$D$75,A7) -> 8 | C7: =IF($B7=0,"",IFERROR(SUMPRODUCT(('Transactions Data'!$G$5:$G$281=$A7)*('Transactions Data'!$H$5:$H$281=0)/COUNTIFS('Transactions Data'!$B$5:$B$281,'Transactions Data'!$B$5:$B$281,'Transactions Data'!$G$5:$G$281,'Transactions Data'!$G$5:$G$281,'Transactions Data'!$H$5:$H$281,'Transactions Data'!$H$5:$H$281)),0)/$B7) -> 1 | D7: =IF($B7=0,"",IFERROR(SUMPRODUCT(('Transactions Data'!$G$5:$G$281=$A7)*('Transactions Data'!$H$5:$H$281=1)/COUNTIFS('Transactions Data'!$B$5:$B$281,'Transactions Data'!$B$5:$B$281,'Transactions Data'!$G$5:$G$281,'Transactions Data'!$G$5:$G$281,'Transactions Data'!$H$5:$H$281,'Transactions Data'!$H$5:$H$281)),0)/$B7) -> 0.75 | E7: =IF($B7=0,"",IFERROR(SUMPRODUCT(('Transactions Data'!$G$5:$G$281=$A7)*('Transactions Data'!$H$5:$H$281=2)/COUNTIFS('Transactions Data'!$B$5:$B$281,'Transactions Data'!$B$5:$B$281,'Transactions Data'!$G$5:$G$281,'Transactions Data'!$G$5:$G$281,'Transactions Data'!$H$5:$H$281,'Transactions Data'!$H$5:$H$281)),0)/$B7) -> 0.375 | F7: =IF($B7=0,"",IFERROR(SUMPRODUCT(('Transactions Data'!$G$5:$G$281=$A7)*('Transactions Data'!$H$5:$H$281=3)/COUNTIFS('Transactions Data'!$B$5:$B$281,'Transactions Data'!$B$5:$B$281,'Transactions Data'!$G$5:$G$281,'Transactions Data'!$G$5:$G$281,'Transactions Data'!$H$5:$H$281,'Transactions Data'!$H$5:$H$281)),0)/$B7) -> 0.25 | G7: =IF($B7=0,"",IFERROR(SUMPRODUCT(('Transactions Data'!$G$5:$G$281=$A7)*('Transactions Data'!$H$5:$H$281=4)/COUNTIFS('Transactions Data'!$B$5:$B$281,'Transactions Data'!$B$5:$B$281,'Transactions Data'!$G$5:$G$281,'Transactions Data'!$G$5:$G$281,'Transactions Data'!$H$5:$H$281,'Transactions Data'!$H$5:$H$281)),0)/$B7) -> 0.25 | H7: =IF($B7=0,"",IFERROR(SUMPRODUCT(('Transactions Data'!$G$5:$G$281=$A7)*('Transactions Data'!$H$5:$H$281=5)/COUNTIFS('Transactions Data'!$B$5:$B$281,'Transactions Data'!$B$5:$B$281,'Transactions Data'!$G$5:$G$281,'Transactions Data'!$G$5:$G$281,'Transactions Data'!$H$5:$H$281,'Transactions Data'!$H$5:$H$281)),0)/$B7) -> 0.25 | I7: =IF($B7=0,"",IFERROR(SUMPRODUCT(('Transactions Data'!$G$5:$G$281=$A7)*('Transactions Data'!$H$5:$H$281=6)/COUNTIFS('Transactions Data'!$B$5:$B$281,'Transactions Data'!$B$5:$B$281,'Transactions Data'!$G$5:$G$281,'Transactions Data'!$G$5:$G$281,'Transactions Data'!$H$5:$H$281,'Transactions Data'!$H$5:$H$281)),0)/$B7) -> 0.25
A8: =DATE(2024,4,1) -> 45383 | B8: =COUNTIFS('RFM Analysis'!$D$6:$D$75,A8) -> 7 | C8: =IF($B8=0,"",IFERROR(SUMPRODUCT(('Transactions Data'!$G$5:$G$281=$A8)*('Transactions Data'!$H$5:$H$281=0)/COUNTIFS('Transactions Data'!$B$5:$B$281,'Transactions Data'!$B$5:$B$281,'Transactions Data'!$G$5:$G$281,'Transactions Data'!$G$5:$G$281,'Transactions Data'!$H$5:$H$281,'Transactions Data'!$H$5:$H$281)),0)/$B8) -> 1 | D8: =IF($B8=0,"",IFERROR(SUMPRODUCT(('Transactions Data'!$G$5:$G$281=$A8)*('Transactions Data'!$H$5:$H$281=1)/COUNTIFS('Transactions Data'!$B$5:$B$281,'Transactions Data'!$B$5:$B$281,'Transactions Data'!$G$5:$G$281,'Transactions Data'!$G$5:$G$281,'Transactions Data'!$H$5:$H$281,'Transactions Data'!$H$5:$H$281)),0)/$B8) -> 0.57142857 | E8: =IF($B8=0,"",IFERROR(SUMPRODUCT(('Transactions Data'!$G$5:$G$281=$A8)*('Transactions Data'!$H$5:$H$281=2)/COUNTIFS('Transactions Data'!$B$5:$B$281,'Transactions Data'!$B$5:$B$281,'Transactions Data'!$G$5:$G$281,'Transactions Data'!$G$5:$G$281,'Transactions Data'!$H$5:$H$281,'Transactions Data'!$H$5:$H$281)),0)/$B8) -> 0.42857143 | F8: =IF($B8=0,"",IFERROR(SUMPRODUCT(('Transactions Data'!$G$5:$G$281=$A8)*('Transactions Data'!$H$5:$H$281=3)/COUNTIFS('Transactions Data'!$B$5:$B$281,'Transactions Data'!$B$5:$B$281,'Transactions Data'!$G$5:$G$281,'Transactions Data'!$G$5:$G$281,'Transactions Data'!$H$5:$H$281,'Transactions Data'!$H$5:$H$281)),0)/$B8) -> 0.28571429 | G8: =IF($B8=0,"",IFERROR(SUMPRODUCT(('Transactions Data'!$G$5:$G$281=$A8)*('Transactions Data'!$H$5:$H$281=4)/COUNTIFS('Transactions Data'!$B$5:$B$281,'Transactions Data'!$B$5:$B$281,'Transactions Data'!$G$5:$G$281,'Transactions Data'!$G$5:$G$281,'Transactions Data'!$H$5:$H$281,'Transactions Data'!$H$5:$H$281)),0)/$B8) -> 0.28571429 | H8: =IF($B8=0,"",IFERROR(SUMPRODUCT(('Transactions Data'!$G$5:$G$281=$A8)*('Transactions Data'!$H$5:$H$281=5)/COUNTIFS('Transactions Data'!$B$5:$B$281,'Transactions Data'!$B$5:$B$281,'Transactions Data'!$G$5:$G$281,'Transactions Data'!$G$5:$G$281,'Transactions Data'!$H$5:$H$281,'Transactions Data'!$H$5:$H$281)),0)/$B8) -> 0.28571429 | I8: =IF($B8=0,"",IFERROR(SUMPRODUCT(('Transactions Data'!$G$5:$G$281=$A8)*('Transactions Data'!$H$5:$H$281=6)/COUNTIFS('Transactions Data'!$B$5:$B$281,'Transactions Data'!$B$5:$B$281,'Transactions Data'!$G$5:$G$281,'Transactions Data'!$G$5:$G$281,'Transactions Data'!$H$5:$H$281,'Transactions Data'!$H$5:$H$281)),0)/$B8) -> 0.14285714
A9: =DATE(2024,5,1) -> 45413 | B9: =COUNTIFS('RFM Analysis'!$D$6:$D$75,A9) -> 6 | C9: =IF($B9=0,"",IFERROR(SUMPRODUCT(('Transactions Data'!$G$5:$G$281=$A9)*('Transactions Data'!$H$5:$H$281=0)/COUNTIFS('Transactions Data'!$B$5:$B$281,'Transactions Data'!$B$5:$B$281,'Transactions Data'!$G$5:$G$281,'Transactions Data'!$G$5:$G$281,'Transactions Data'!$H$5:$H$281,'Transactions Data'!$H$5:$H$281)),0)/$B9) -> 1 | D9: =IF($B9=0,"",IFERROR(SUMPRODUCT(('Transactions Data'!$G$5:$G$281=$A9)*('Transactions Data'!$H$5:$H$281=1)/COUNTIFS('Transactions Data'!$B$5:$B$281,'Transactions Data'!$B$5:$B$281,'Transactions Data'!$G$5:$G$281,'Transactions Data'!$G$5:$G$281,'Transactions Data'!$H$5:$H$281,'Transactions Data'!$H$5:$H$281)),0)/$B9) -> 0.66666667 | E9: =IF($B9=0,"",IFERROR(SUMPRODUCT(('Transactions Data'!$G$5:$G$281=$A9)*('Transactions Data'!$H$5:$H$281=2)/COUNTIFS('Transactions Data'!$B$5:$B$281,'Transactions Data'!$B$5:$B$281,'Transactions Data'!$G$5:$G$281,'Transactions Data'!$G$5:$G$281,'Transactions Data'!$H$5:$H$281,'Transactions Data'!$H$5:$H$281)),0)/$B9) -> 0.33333333 | F9: =IF($B9=0,"",IFERROR(SUMPRODUCT(('Transactions Data'!$G$5:$G$281=$A9)*('Transactions Data'!$H$5:$H$281=3)/COUNTIFS('Transactions Data'!$B$5:$B$281,'Transactions Data'!$B$5:$B$281,'Transactions Data'!$G$5:$G$281,'Transactions Data'!$G$5:$G$281,'Transactions Data'!$H$5:$H$281,'Transactions Data'!$H$5:$H$281)),0)/$B9) -> 0.33333333 | G9: =IF($B9=0,"",IFERROR(SUMPRODUCT(('Transactions Data'!$G$5:$G$281=$A9)*('Transactions Data'!$H$5:$H$281=4)/COUNTIFS('Transactions Data'!$B$5:$B$281,'Transactions Data'!$B$5:$B$281,'Transactions Data'!$G$5:$G$281,'Transactions Data'!$G$5:$G$281,'Transactions Data'!$H$5:$H$281,'Transactions Data'!$H$5:$H$281)),0)/$B9) -> 0.33333333 | H9: =IF($B9=0,"",IFERROR(SUMPRODUCT(('Transactions Data'!$G$5:$G$281=$A9)*('Transactions Data'!$H$5:$H$281=5)/COUNTIFS('Transactions Data'!$B$5:$B$281,'Transactions Data'!$B$5:$B$281,'Transactions Data'!$G$5:$G$281,'Transactions Data'!$G$5:$G$281,'Transactions Data'!$H$5:$H$281,'Transactions Data'!$H$5:$H$281)),0)/$B9) -> 0.16666667 | I9: =IF($B9=0,"",IFERROR(SUMPRODUCT(('Transactions Data'!$G$5:$G$281=$A9)*('Transactions Data'!$H$5:$H$281=6)/COUNTIFS('Transactions Data'!$B$5:$B$281,'Transactions Data'!$B$5:$B$281,'Transactions Data'!$G$5:$G$281,'Transactions Data'!$G$5:$G$281,'Transactions Data'!$H$5:$H$281,'Transactions Data'!$H$5:$H$281)),0)/$B9) -> 0.16666667
A10: =DATE(2024,6,1) -> 45444 | B10: =COUNTIFS('RFM Analysis'!$D$6:$D$75,A10) -> 13 | C10: =IF($B10=0,"",IFERROR(SUMPRODUCT(('Transactions Data'!$G$5:$G$281=$A10)*('Transactions Data'!$H$5:$H$281=0)/COUNTIFS('Transactions Data'!$B$5:$B$281,'Transactions Data'!$B$5:$B$281,'Transactions Data'!$G$5:$G$281,'Transactions Data'!$G$5:$G$281,'Transactions Data'!$H$5:$H$281,'Transactions Data'!$H$5:$H$281)),0)/$B10) -> 1 | D10: =IF($B10=0,"",IFERROR(SUMPRODUCT(('Transactions Data'!$G$5:$G$281=$A10)*('Transactions Data'!$H$5:$H$281=1)/COUNTIFS('Transactions Data'!$B$5:$B$281,'Transactions Data'!$B$5:$B$281,'Transactions Data'!$G$5:$G$281,'Transactions Data'!$G$5:$G$281,'Transactions Data'!$H$5:$H$281,'Transactions Data'!$H$5:$H$281)),0)/$B10) -> 0.53846154 | E10: =IF($B10=0,"",IFERROR(SUMPRODUCT(('Transactions Data'!$G$5:$G$281=$A10)*('Transactions Data'!$H$5:$H$281=2)/COUNTIFS('Transactions Data'!$B$5:$B$281,'Transactions Data'!$B$5:$B$281,'Transactions Data'!$G$5:$G$281,'Transactions Data'!$G$5:$G$281,'Transactions Data'!$H$5:$H$281,'Transactions Data'!$H$5:$H$281)),0)/$B10) -> 0.38461538 | F10: =IF($B10=0,"",IFERROR(SUMPRODUCT(('Transactions Data'!$G$5:$G$281=$A10)*('Transactions Data'!$H$5:$H$281=3)/COUNTIFS('Transactions Data'!$B$5:$B$281,'Transactions Data'!$B$5:$B$281,'Transactions Data'!$G$5:$G$281,'Transactions Data'!$G$5:$G$281,'Transactions Data'!$H$5:$H$281,'Transactions Data'!$H$5:$H$281)),0)/$B10) -> 0.30769231 | G10: =IF($B10=0,"",IFERROR(SUMPRODUCT(('Transactions Data'!$G$5:$G$281=$A10)*('Transactions Data'!$H$5:$H$281=4)/COUNTIFS('Transactions Data'!$B$5:$B$281,'Transactions Data'!$B$5:$B$281,'Transactions Data'!$G$5:$G$281,'Transactions Data'!$G$5:$G$281,'Transactions Data'!$H$5:$H$281,'Transactions Data'!$H$5:$H$281)),0)/$B10) -> 0.30769231 | H10: =IF($B10=0,"",IFERROR(SUMPRODUCT(('Transactions Data'!$G$5:$G$281=$A10)*('Transactions Data'!$H$5:$H$281=5)/COUNTIFS('Transactions Data'!$B$5:$B$281,'Transactions Data'!$B$5:$B$281,'Transactions Data'!$G$5:$G$281,'Transactions Data'!$G$5:$G$281,'Transactions Data'!$H$5:$H$281,'Transactions Data'!$H$5:$H$281)),0)/$B10) -> 0.30769231 | I10: =IF($B10=0,"",IFERROR(SUMPRODUCT(('Transactions Data'!$G$5:$G$281=$A10)*('Transactions Data'!$H$5:$H$281=6)/COUNTIFS('Transactions Data'!$B$5:$B$281,'Transactions Data'!$B$5:$B$281,'Transactions Data'!$G$5:$G$281,'Transactions Data'!$G$5:$G$281,'Transactions Data'!$H$5:$H$281,'Transactions Data'!$H$5:$H$281)),0)/$B10) -> 0.30769231
A11: =DATE(2024,7,1) -> 45474 | B11: =COUNTIFS('RFM Analysis'!$D$6:$D$75,A11) -> 8 | C11: =IF($B11=0,"",IFERROR(SUMPRODUCT(('Transactions Data'!$G$5:$G$281=$A11)*('Transactions Data'!$H$5:$H$281=0)/COUNTIFS('Transactions Data'!$B$5:$B$281,'Transactions Data'!$B$5:$B$281,'Transactions Data'!$G$5:$G$281,'Transactions Data'!$G$5:$G$281,'Transactions Data'!$H$5:$H$281,'Transactions Data'!$H$5:$H$281)),0)/$B11) -> 1 | D11: =IF($B11=0,"",IFERROR(SUMPRODUCT(('Transactions Data'!$G$5:$G$281=$A11)*('Transactions Data'!$H$5:$H$281=1)/COUNTIFS('Transactions Data'!$B$5:$B$281,'Transactions Data'!$B$5:$B$281,'Transactions Data'!$G$5:$G$281,'Transactions Data'!$G$5:$G$281,'Transactions Data'!$H$5:$H$281,'Transactions Data'!$H$5:$H$281)),0)/$B11) -> 0.125 | E11: =IF($B11=0,"",IFERROR(SUMPRODUCT(('Transactions Data'!$G$5:$G$281=$A11)*('Transactions Data'!$H$5:$H$281=2)/COUNTIFS('Transactions Data'!$B$5:$B$281,'Transactions Data'!$B$5:$B$281,'Transactions Data'!$G$5:$G$281,'Transactions Data'!$G$5:$G$281,'Transactions Data'!$H$5:$H$281,'Transactions Data'!$H$5:$H$281)),0)/$B11) -> 0.125 | F11: =IF($B11=0,"",IFERROR(SUMPRODUCT(('Transactions Data'!$G$5:$G$281=$A11)*('Transactions Data'!$H$5:$H$281=3)/COUNTIFS('Transactions Data'!$B$5:$B$281,'Transactions Data'!$B$5:$B$281,'Transactions Data'!$G$5:$G$281,'Transactions Data'!$G$5:$G$281,'Transactions Data'!$H$5:$H$281,'Transactions Data'!$H$5:$H$281)),0)/$B11) -> 0.125 | G11: =IF($B11=0,"",IFERROR(SUMPRODUCT(('Transactions Data'!$G$5:$G$281=$A11)*('Transactions Data'!$H$5:$H$281=4)/COUNTIFS('Transactions Data'!$B$5:$B$281,'Transactions Data'!$B$5:$B$281,'Transactions Data'!$G$5:$G$281,'Transactions Data'!$G$5:$G$281,'Transactions Data'!$H$5:$H$281,'Transactions Data'!$H$5:$H$281)),0)/$B11) -> 0.125 | H11: =IF($B11=0,"",IFERROR(SUMPRODUCT(('Transactions Data'!$G$5:$G$281=$A11)*('Transactions Data'!$H$5:$H$281=5)/COUNTIFS('Transactions Data'!$B$5:$B$281,'Transactions Data'!$B$5:$B$281,'Transactions Data'!$G$5:$G$281,'Transactions Data'!$G$5:$G$281,'Transactions Data'!$H$5:$H$281,'Transactions Data'!$H$5:$H$281)),0)/$B11) -> 0.125 | I11: =IF($B11=0,"",IFERROR(SUMPRODUCT(('Transactions Data'!$G$5:$G$281=$A11)*('Transactions Data'!$H$5:$H$281=6)/COUNTIFS('Transactions Data'!$B$5:$B$281,'Transactions Data'!$B$5:$B$281,'Transactions Data'!$G$5:$G$281,'Transactions Data'!$G$5:$G$281,'Transactions Data'!$H$5:$H$281,'Transactions Data'!$H$5:$H$281)),0)/$B11) -> 0
A12: =DATE(2024,8,1) -> 45505 | B12: =COUNTIFS('RFM Analysis'!$D$6:$D$75,A12) -> 9 | C12: =IF($B12=0,"",IFERROR(SUMPRODUCT(('Transactions Data'!$G$5:$G$281=$A12)*('Transactions Data'!$H$5:$H$281=0)/COUNTIFS('Transactions Data'!$B$5:$B$281,'Transactions Data'!$B$5:$B$281,'Transactions Data'!$G$5:$G$281,'Transactions Data'!$G$5:$G$281,'Transactions Data'!$H$5:$H$281,'Transactions Data'!$H$5:$H$281)),0)/$B12) -> 1 | D12: =IF($B12=0,"",IFERROR(SUMPRODUCT(('Transactions Data'!$G$5:$G$281=$A12)*('Transactions Data'!$H$5:$H$281=1)/COUNTIFS('Transactions Data'!$B$5:$B$281,'Transactions Data'!$B$5:$B$281,'Transactions Data'!$G$5:$G$281,'Transactions Data'!$G$5:$G$281,'Transactions Data'!$H$5:$H$281,'Transactions Data'!$H$5:$H$281)),0)/$B12) -> 0.44444444 | E12: =IF($B12=0,"",IFERROR(SUMPRODUCT(('Transactions Data'!$G$5:$G$281=$A12)*('Transactions Data'!$H$5:$H$281=2)/COUNTIFS('Transactions Data'!$B$5:$B$281,'Transactions Data'!$B$5:$B$281,'Transactions Data'!$G$5:$G$281,'Transactions Data'!$G$5:$G$281,'Transactions Data'!$H$5:$H$281,'Transactions Data'!$H$5:$H$281)),0)/$B12) -> 0.33333333 | F12: =IF($B12=0,"",IFERROR(SUMPRODUCT(('Transactions Data'!$G$5:$G$281=$A12)*('Transactions Data'!$H$5:$H$281=3)/COUNTIFS('Transactions Data'!$B$5:$B$281,'Transactions Data'!$B$5:$B$281,'Transactions Data'!$G$5:$G$281,'Transactions Data'!$G$5:$G$281,'Transactions Data'!$H$5:$H$281,'Transactions Data'!$H$5:$H$281)),0)/$B12) -> 0.22222222 | G12: =IF($B12=0,"",IFERROR(SUMPRODUCT(('Transactions Data'!$G$5:$G$281=$A12)*('Transactions Data'!$H$5:$H$281=4)/COUNTIFS('Transactions Data'!$B$5:$B$281,'Transactions Data'!$B$5:$B$281,'Transactions Data'!$G$5:$G$281,'Transactions Data'!$G$5:$G$281,'Transactions Data'!$H$5:$H$281,'Transactions Data'!$H$5:$H$281)),0)/$B12) -> 0 | H12: =IF($B12=0,"",IFERROR(SUMPRODUCT(('Transactions Data'!$G$5:$G$281=$A12)*('Transactions Data'!$H$5:$H$281=5)/COUNTIFS('Transactions Data'!$B$5:$B$281,'Transactions Data'!$B$5:$B$281,'Transactions Data'!$G$5:$G$281,'Transactions Data'!$G$5:$G$281,'Transactions Data'!$H$5:$H$281,'Transactions Data'!$H$5:$H$281)),0)/$B12) -> 0 | I12: =IF($B12=0,"",IFERROR(SUMPRODUCT(('Transactions Data'!$G$5:$G$281=$A12)*('Transactions Data'!$H$5:$H$281=6)/COUNTIFS('Transactions Data'!$B$5:$B$281,'Transactions Data'!$B$5:$B$281,'Transactions Data'!$G$5:$G$281,'Transactions Data'!$G$5:$G$281,'Transactions Data'!$H$5:$H$281,'Transactions Data'!$H$5:$H$281)),0)/$B12) -> 0

Sheet Executive Dashboard
A1: EXECUTIVE DASHBOARD — Customer Value & Retention
A2: Auto-calculated from RFM Analysis and Cohort Retention. Everything below updates live if the source transactions change.
A4: Total Customers | C4: Total Revenue | E4: Avg Revenue / Customer | G4: Champions | I4: At Risk + Lost
A5: =COUNTA('RFM Analysis'!$A$6:$A$75) -> 70 | C5: =SUM('RFM Analysis'!$H$6:$H$75) -> 32655.96 | E5: =SUM('RFM Analysis'!$H$6:$H$75)/COUNTA('RFM Analysis'!$A$6:$A$75) -> 466.51371 | G5: =COUNTIF('RFM Analysis'!$L$6:$L$75,"Champions") -> 20 | I5: =COUNTIF('RFM Analysis'!$L$6:$L$75,"At Risk")+COUNTIF('RFM Analysis'!$L$6:$L$75,"Lost") -> 28
A8: Customers by Segment | D8: Avg Retention by Month Since First Order
A9: Segment | B9: Customers | D9: Month Offset | E9: Avg Retention
A10: Champions | B10: =COUNTIF('RFM Analysis'!$L$6:$L$75,A10) -> 20 | D10: 0 | E10: =IFERROR(AVERAGE('Cohort Retention'!C5:C12),0) -> 1
A11: Loyal Customers | B11: =COUNTIF('RFM Analysis'!$L$6:$L$75,A11) -> 4 | D11: 1 | E11: =IFERROR(AVERAGE('Cohort Retention'!D5:D12),0) -> 0.53005571
A12: Potential Loyalist | B12: =COUNTIF('RFM Analysis'!$L$6:$L$75,A12) -> 8 | D12: 2 | E12: =IFERROR(AVERAGE('Cohort Retention'!E5:E12),0) -> 0.35303724
A13: Need Attention | B13: =COUNTIF('RFM Analysis'!$L$6:$L$75,A13) -> 10 | D13: 3 | E13: =IFERROR(AVERAGE('Cohort Retention'!F5:F12),0) -> 0.25716194
A14: At Risk | B14: =COUNTIF('RFM Analysis'!$L$6:$L$75,A14) -> 18 | D14: 4 | E14: =IFERROR(AVERAGE('Cohort Retention'!G5:G12),0) -> 0.21549527
A15: Lost | B15: =COUNTIF('RFM Analysis'!$L$6:$L$75,A15) -> 10 | D15: 5 | E15: =IFERROR(AVERAGE('Cohort Retention'!H5:H12),0) -> 0.16688416
D16: 6 | E16: =IFERROR(AVERAGE('Cohort Retention'!I5:I12),0) -> 0.13340201
